BEGIN:VCALENDAR
VERSION:2.0
PRODID:-//Conecta Arizona - ECPv6.15.12.1//NONSGML v1.0//EN
CALSCALE:GREGORIAN
METHOD:PUBLISH
X-WR-CALNAME:Conecta Arizona
X-ORIGINAL-URL:https://conectaarizona.com
X-WR-CALDESC:Eventos para Conecta Arizona
REFRESH-INTERVAL;VALUE=DURATION:PT1H
X-Robots-Tag:noindex
X-PUBLISHED-TTL:PT1H
BEGIN:VTIMEZONE
TZID:America/Phoenix
BEGIN:STANDARD
TZOFFSETFROM:-0700
TZOFFSETTO:-0700
TZNAME:MST
DTSTART:20250101T000000
END:STANDARD
END:VTIMEZONE
BEGIN:VEVENT
DTSTART;TZID=America/Phoenix:20260328T090000
DTEND;TZID=America/Phoenix:20260328T130000
DTSTAMP:20260420T102911
CREATED:20260306T040219Z
LAST-MODIFIED:20260306T040219Z
UID:35371-1774688400-1774702800@conectaarizona.com
SUMMARY:Cafecito en el Jardín
DESCRIPTION:Cafecito en el Jardín¡Conecta Arizona cumple 6 años! \nTe invitamos a celebrar con nosotros este sábado 28 de marzo a las 9 a. m. en el Phoenix Desert Botanical Garden\, en una mañana pensada para compartir\, agradecer y seguir fortaleciendo nuestra comunidad. \nDisfruta de ballet folclórico\, música en vivo\, premios\, convivencia y\, claro\, mucho cafecito en un espacio lleno de alegría y conexión. \n1201 N Galvin Pkwy\, Phoenix\, AZ 85008 \nSeis años de camino se celebran mejor en comunidad.
URL:https://conectaarizona.com/evento/cafecito-en-el-jardin/
LOCATION:Desert Botanical Garden\, 1201 N Galvin Pkwy.\, Phoenix\, Arizona\, 85008
CATEGORIES:Arte,Comunidad,Cultura,Familiar,Música
ATTACH;FMTTYPE=image/jpeg:https://d31s6a9l98dry5.cloudfront.net/wp-content/uploads/2026/03/05205627/Invitacion_CafecitoenelJardin3.jpg
ORGANIZER;CN="Conecta Arizona":MAILTO:maritza@conectaarizona.com
END:VEVENT
END:VCALENDAR