BEGIN:VCALENDAR
VERSION:2.0
PRODID:-//Conecta Arizona - ECPv6.15.12.1//NONSGML v1.0//EN
CALSCALE:GREGORIAN
METHOD:PUBLISH
X-WR-CALNAME:Conecta Arizona
X-ORIGINAL-URL:https://conectaarizona.com
X-WR-CALDESC:Eventos para Conecta Arizona
REFRESH-INTERVAL;VALUE=DURATION:PT1H
X-Robots-Tag:noindex
X-PUBLISHED-TTL:PT1H
BEGIN:VTIMEZONE
TZID:America/Phoenix
BEGIN:STANDARD
TZOFFSETFROM:-0700
TZOFFSETTO:-0700
TZNAME:MST
DTSTART:20250101T000000
END:STANDARD
END:VTIMEZONE
BEGIN:VEVENT
DTSTART;TZID=America/Phoenix:20260501T170000
DTEND;TZID=America/Phoenix:20260501T200000
DTSTAMP:20260421T051423
CREATED:20260418T044407Z
LAST-MODIFIED:20260418T044831Z
UID:36979-1777654800-1777665600@conectaarizona.com
SUMMARY:Exhibición de arte
DESCRIPTION:Te invitamos a la exhibición del artista plástico Diego Pérez en Phoenix\, Arizona\, que se llevará a cabo el 1 de mayo en Exposed Studio & Gallery. Una oportunidad para disfrutar de su obra y vivir una experiencia artística especial.
URL:https://conectaarizona.com/evento/exhibicion-de-arte/
LOCATION:Exposed Studio & Gallery\, 4225 N. 7th Ave.\, Phoenix\, Arizona\, 85013\, United States
CATEGORIES:Arte
ATTACH;FMTTYPE=image/jpeg:https://d31s6a9l98dry5.cloudfront.net/wp-content/uploads/2026/04/17213943/Diego-Perez-scaled.jpg
END:VEVENT
END:VCALENDAR